Workbook

Sheet стр.1
BK1: Приложение 1
BK2: к Порядку составления и утверждения плана
BK3: финансово-хозяйственной деятельности
BK4: муниципальных бюджетных и автономных
BK5: учреждений, подведомственных
BK6: Администрации МР "Вилюйский улус (район)"РС(Я)
BE11: УТВЕРЖДАЮ
BE12: Глава муниципального района
BE13: (наименование должности лица, утверждающего документ)
CA14: С.Н.Винокуров
BE15: (подпись) | CA15: (расшифровка подписи)
BM16: " | BN16: 09 | BR16: " | BU16: января | CM16: 20 | CQ16: 13 | CU16: г.
A18: План финансово-хозяйственной деятельности
BA19: на 20 | BB19: 13 | BF19: год
CO21: КОДЫ
CM22: Форма по КФД
AK23: " | AL23: 09 | AP23: " | AS23: января | BK23: 20 | BO23: 13 | BS23: г. | CM23: Дата | CO23: 09.01.2013
A25: Наименование муниципального бюджетного (автономного) учреждения | AI25: Муниципальное бюджетное дошкольное образовательное учреждение «Детский сад «Кэнчээри» общеразвивающего вида с приоритетным осуществлением деятельности по социально-личностному развитию детей» с.Екюндю муниципального района "Вилюйский улус (район) РС (Я)
CM26: по ОКПО | CO26: 55660137
A30: ИНН/КПП | AI30: 1410004258/141001001
A31: Единица измерения: руб. | CM31: по ОКЕИ | CO31: 383
A33: Наименование органа, осуществляющего | AS33: Муниципальный район "Вилюйский улус (район)" Республики Саха (Якутия)
A34: функции и полномочия учредителя
A36: Адрес фактического местонахождения | AR36: Республика Саха (Я), Вилюйский улус, с.Екюндю, ул. Бекчегинская №14
A37: бюджетного учреждения
A39: I. Сведения о деятельности муниципального бюджетного (автономного) учреждения
A41: 1.1. Цели деятельности муниципального бюджетного (автономного) учреждения:
A42: Создание условий для реализации гражданами Российской Федерации гарантированного государством права на получение общедоступного и бесплатного общего образования всех ступеней, если образование данного уровня гражданин получает впервые.
A43: 1.2. Виды деятельности муниципального бюджетного (автономного) учреждения:
A44: Реализация основных общеобразовательных программ начального общего, основного общего образования
A45: 1.3. Перечень услуг (работ), осуществляемых на платной основе:

Sheet стр.2
A1: II. Показатели финансового состояния учреждения
A2: Наименование показателя | I2: Сумма
A3: I. Нефинансовые активы, всего: | I3: =I5+I11 -> 1626353.4
A4: из них:
A5: 1.1. Общая балансовая стоимость недвижимого муниципального имущества, всего | I5: =I7+I9 -> 1625685.6
A6: в том числе:
A7: 1.1.1. Стоимость имущества, закрепленного собственником имущества за муниципальным бюджетным (автономным) учреждением на праве оперативного управления | I7: 1542504.6
A8: 1.1.2. Стоимость имущества, приобретенного муниципальным бюджетным (автономным) учреждением за счет выделенных собственником имущества учреждения средств
A9: 1.1.3. Стоимость имущества, приобретенного муниципальным бюджетным (автономным) учреждением за счет доходов, полученных от платной и иной приносящей доход деятельности | I9: 83181.05
A10: 1.1.4. Остаточная стоимость недвижимого государственного имущества | I10: 280500.07
A11: 1.2. Общая балансовая стоимость движимого муниципального бюджетного (автономного) имущества, всего | I11: =I13 -> 667.8
A12: в том числе:
A13: 1.2.1. Общая балансовая стоимость особо ценного движимого имущества | I13: 667.8
A14: 1.2.2. Остаточная стоимость особо ценного движимого имущества | I14: 96.5
A15: II. Финансовые активы, всего | I15: =I18 -> 90740.52
A16: из них:
A17: 2.1. Дебиторская задолженность по доходам, полученным за счет средств муниципального бюджета
A18: 2.2. Дебиторская задолженность по выданным авансам, полученным за счет средств муниципального бюджета, всего: | I18: =I19+I30 -> 90740.52
A19: в том числе: | I19: =I22+I28+I29 -> 90740.52
A20: 2.2.1. по выданным авансам на услуги связи
A21: 2.2.2. по выданным авансам на транспортные услуги
A22: 2.2.3. по выданным авансам на коммунальные услуги | I22: 13700.02
A23: 2.2.4. по выданным авансам на услуги по содержанию имущества | I23: 14586.47
A24: 2.2.5. по выданным авансам на прочие услуги
A25: 2.2.6. по выданным авансам на приобретение основных средств
A26: 2.2.7. по выданным авансам на приобретение нематериальных активов
A27: 2.2.8. по выданным авансам на приобретение непроизведенных активов
A28: 2.2.9. по выданным авансам на приобретение материальных запасов | I28: 38653.7
A29: 2.2.10. по выданным авансам на прочие расходы | I29: 38386.8
A30: 2.3. Дебиторская задолженность по выданным авансам за счет доходов, полученных от платной и иной приносящей доход деятельности, всего: | I30: =I31 -> 0
A31: в том числе: | I31: =I37 -> 0
A32: 2.3.1. по выданным авансам на услуги связи
A33: 2.3.2. по выданным авансам на транспортные услуги
A34: 2.3.3. по выданным авансам на коммунальные услуги
A35: 2.3.4. по выданным авансам на услуги по содержанию имущества
A36: 2.3.5. по выданным авансам на прочие услуги
A37: 2.3.6. по выданным авансам на приобретение основных средств
A38: 2.3.7. по выданным авансам на приобретение нематериальных активов
A39: 2.3.8. по выданным авансам на приобретение непроизведенных активов
A40: 2.3.9. по выданным авансам на приобретение материальных запасов
...

Sheet стр.3
A2: III. Показатели по поступлениям и выплатам учреждения
A4: Наименование показателя | AT4: Код по бюджетной классифика-ции операции сектора госу- дарственного управления | BJ4: Всего | CA4: В том числе
CA5: операции по лицевым счетам, открытым в финансовом органе | CP5: операции по счетам, открытым в кредитных организациях в иностран-ной валюте
B6: Планируемый остаток средств на начало планируемого года | AT6: Х | BJ6: ='стр.3 (2)'!D15 -> 49633.68 | CA6: =BJ6 -> 49633.68
B7: Поступления, всего: | AT7: Х | BJ7: =BJ8+BJ16 -> 5671614.1 | CA7: 5671614.1
B8: в том числе: | AT8: Х | BJ8: 5383614.1 | CA8: 5383614.1
B9: Субсидии на выполнение муниципального задания | AT9: Х | BJ9: 5383614.1 | CA9: 5383614.1
B10: Субсидии на иные цели | CA10: 0
B11: Поступления от оказания муниципальным бюджетным (автономным) учреждением (подразделением) услуг (выполнения работ), предоставление которых для физических и юридических лиц осуществляется на платной основе, всего | AT11: Х | CA11: 0
B12: в том числе: | AT12: Х | CA12: 0
B13: родительский взнос за содержание ребенка | AT13: Х | CA13: 0
B14: Услуга № 2 | AT14: Х | CA14: 0
CA15: 0
B16: Поступления от иной приносящей доход деятельности, всего: | AT16: Х | BJ16: 288000 | CA16: 288000
B17: в том числе: | AT17: Х | BJ17: 288000 | CA17: 288000
B18: родительский взнос за содержание ребенка | BJ18: 288000 | CA18: 288000
B19: безвозмездные или благотворительные взносы | AT19: Х
B20: Планируемый остаток средств на конец планируемого года | AT20: Х
B21: Выплаты, всего: | AT21: 900 | BJ21: =BJ23+BJ28+BJ35+BJ36 -> 5721247.8 | CA21: 5749628.8
B22: в том числе:
B23: Оплата труда и начисления на выплаты по оплате труда, всего | AT23: 210 | BJ23: =BJ25+BJ26+BJ27 -> 4033683.7 | CA23: =BJ23 -> 4033683.7
B24: из них:
B25: Заработная плата | AT25: 211 | BJ25: ='стр.3 (2)'!D36 -> 2995200 | CA25: =BJ25 -> 2995200
B26: Прочие выплаты | AT26: 212 | BJ26: ='стр.3 (2)'!D37+'стр.3 (2)'!D50 -> 133907.7 | CA26: =BJ26 -> 133907.7
B27: Начисления на выплаты по оплате труда | AT27: 213 | BJ27: ='стр.3 (2)'!D38 -> 904576.03 | CA27: =BJ27 -> 904576.03
B28: Оплата работ, услуг, всего | AT28: 220 | BJ28: =BJ30+BJ31+BJ32+BJ33+BJ34 -> 734308.07 | CA28: =BJ28 -> 734308.07
B29: из них:
B30: Услуги связи | AT30: 221 | BJ30: ='стр.3 (2)'!D40 -> 11600 | CA30: =BJ30 -> 11600
B31: Транспортные услуги | AT31: 222 | BJ31: 0 | CA31: 0
B32: Коммунальные услуги | AT32: 223 | BJ32: ='стр.3 (2)'!D41 -> 649736.24 | CA32: =BJ32 -> 649736.24
B33: Работы, услуги по содержанию имущества | AT33: 225 | BJ33: ='стр.3 (2)'!D27+'стр.3 (2)'!D42 -> 49000 | CA33: =BJ33 -> 49000
B34: Прочие работы, услуги | AT34: 226 | BJ34: ='стр.3 (2)'!D28+'стр.3 (2)'!D43 -> 23971.83 | CA34: =BJ34 -> 23971.83
B35: Прочие расходы | AT35: 290 | BJ35: ='стр.3 (2)'!D29+'стр.3 (2)'!D44 -> 12300 | CA35: =BJ35 -> 12300
B36: Поступление нефинансовых активов, всего | AT36: 300 | BJ36: =BJ38+BJ39 -> 940956 | CA36: =BJ36 -> 940956
B37: из них:
B38: Увеличение стоимости основных средств | AT38: 310 | BJ38: ='стр.3 (2)'!D31 -> 53500 | CA38: =BJ38 -> 53500
B39: Увеличение стоимости материальных запасов | AT39: 340 | BJ39: ='стр.3 (2)'!D32+'стр.3 (2)'!D46 -> 887456 | CA39: =BJ39 -> 887456
B40: Поступление финансовых активов, всего | AT40: 500
B41: из них:
B42: Увеличение стоимости ценных бумаг, кроме акций и иных форм участия в капитале | AT42: 520
...

Sheet стр.3 (2)
A1: Показатели по поступлениям и выплатам учреждения | G1: КОДЫ
E2: Форма по ОКУД | G2: 0501016
A3: от "09"__января__ 2013г. | F3: Дата | G3: 09.01.2013
A5: Государственное (муниципальное)
A6: учреждение (подразделение) | C6: =стр.1!AI25 -> Муниципальное бюджетное дошкольное образовательное учреждение «Детский сад «Кэнчээри» общеразвивающего вида с приоритетным осуществлением деятельности по социально-личностному развитию детей» с.Екюндю муниципального района "Вилюйский улус (район) РС (Я) | F6: по ОКПО
C7: ИНН/КПП 1410004272/141001001
A8: Наименование бюджета | C8: Бюджет муниципального района "Вилюйский улус (район)"
A9: Наименование органа, осуществляющего функции и полномочия учредителя | C9: МР "Вилюйский улус (район)" РС (Я) | F9: Глава по БК | G9: 024
A10: Единица измерения, руб. | C10: руб. | F10: по ОКЕИ | G10: 383
B12: 0701
B13: Наименование показателя | C13: Доп.класс | D13: Всего | E13: В том числе
E14: операции по лицевым счетам, открытым в финансовом органе | G14: операции по счетам, открытым в кредитных организациях в иностран-ной валюте
B15: Остаток средств | D15: =SUM(D16:D18) -> 49633.68 | E15: =D15 -> 49633.68
C16: 002 | D16: 0.48 | E16: =D16 -> 0.48
C17: 004 | D17: 31525.5 | E17: =D17 -> 31525.5
C18: 032 | D18: 18107.7 | E18: =D18 -> 18107.7
B19: Поступления, всего: в том числе | D19: =SUM(D20:D21) -> 5671614.1 | E19: =D19 -> 5671614.1
B20: 02400000000000000 180 | C20: 004 | D20: =5383614.12 -> 5383614.1 | E20: =D20 -> 5383614.1
B21: 02400000000000000 180 | C21: 002 | D21: =288000 -> 288000 | E21: =D21 -> 288000
B23: Выплаты, всего: в том числе | D23: =D25+D34+D48 -> 5721247.8 | E23: =D23 -> 5721247.8
B25: Выплаты по: | C25: 002 | D25: =D26+D29+D30 -> 288000.48 | E25: =D25 -> 288000.48
B26: 220 | C26: 002 | D26: =SUM(D27:D28) -> 45000.48 | E26: =D26 -> 45000.48
B27: 225 | C27: 002 | D27: =45000 -> 45000 | E27: =D27 -> 45000
B28: 226 | C28: 002 | D28: 0.48 | E28: =D28 -> 0.48
B29: 290 | C29: 002 | D29: =5000 -> 5000 | E29: =D29 -> 5000
B30: 300 | C30: 002 | D30: =D31+D32 -> 238000 | E30: =D30 -> 238000
B31: 310 | C31: 002 | D31: 53500 | E31: =D31 -> 53500
B32: 340 | C32: 002 | D32: =184500 -> 184500 | E32: =D32 -> 184500
B34: Выплаты по: | C34: 004 | D34: =D35+D39+D44+D45 -> 5415139.6 | E34: =D34 -> 5415139.6
B35: 210 | C35: 004 | D35: =SUM(D36:D38) -> 4015576 | E35: =D35 -> 4015576
B36: 211 | C36: 004 | D36: 2995200 | E36: =D36 -> 2995200
B37: 212 | C37: 004 | D37: 115800 | E37: =D37 -> 115800
B38: 213 | C38: 004 | D38: =904576.03 -> 904576.03 | E38: =D38 -> 904576.03
B39: 220 | C39: 004 | D39: =SUM(D40:D43) -> 689307.59 | E39: =D39 -> 689307.59
B40: 221 | C40: 004 | D40: 11600 | E40: =D40 -> 11600
B41: 223 | C41: 004 | D41: 649736.24 | E41: =D41 -> 649736.24
B42: 225 | C42: 004 | D42: =4000 -> 4000 | E42: =D42 -> 4000
B43: 226 | C43: 004 | D43: 23971.35 | E43: =D43 -> 23971.35
B44: 290 | C44: 004 | D44: =7300 -> 7300 | E44: =D44 -> 7300
B45: 300 | C45: 004 | D45: =SUM(D46:D46) -> 702956 | E45: =D45 -> 702956
...

Sheet коммунал
DR1: Приложение 1
DR2: к Порядку составления и утверждения плана
DR3: финансово-хозяйственной деятельности
DR4: муниципальных бюджетных
DR5: учреждений, подведомственных
DR6: Администрации МР "Вилюйский улус (район)"РС(Я)
CR9: УТВЕРЖДАЮ
CR10: Глава муниципального района
CR12: Админитрация муниципального района "Вилюйский улус (район) РС (Я)
EA14: С.Н. Винокуров
CR15: (подпись) | EA15: (расшифровка подписи)
CP16: " | CR16: 09 | CW16: " | CY16: января | DV16: 20 | DZ16: 13 | EC16: г.
B17: СВЕДЕНИЯ
B18: ОБ ОПЕРАЦИЯХ С ЦЕЛЕВЫМИ СУБСИДИЯМИ, ПРЕДОСТАВЛЕННЫМИ МУНИЦИПАЛЬНОМУ УЧРЕЖДЕНИЮ НА 20 | EI18: 13 | EM18: Г. | EX18: КОДЫ
EV19: Форма по ОКУД | EX19: 0501016
AW20: от " | BB20: 09 | BG20: " | BI20: января | CF20: 20 | CJ20: 13 | CN20: г. | EV20: Дата | EX20: 09.01.2013
A21: Муниципальное | B21: Муниципальное | AX21: Муниципальное бюджетное дошкольное образовательное учреждение «Детский сад «Кэнчээри» общеразвивающего вида с приоритетным осуществлением деятельности по социально-личностному развитию детей» с.Екюндю муниципального района "Вилюйский улус (район) РС (Я) | EX21: 55660137
A22: учреждение (подразделение) | B22: учреждение (подразделение) | EV22: по ОКПО
AX24: ИНН/КПП | BG24: 1410004258/141001001 | EV24: Дата представления предыдущих Сведений
A26: Наименование бюджета | B26: Наименование бюджета | AX26: Бюджет МР "Вилюйский улус (район)" РС(Я) | EV26: по ОКАТО
A27: Наименование органа, осуществляющего | B27: Наименование органа, осуществляющего | AX27: Админитрация муниципального района "Вилюйский улус (район) РС (Я)
A28: функции и полномочия учредителя | B28: функции и полномочия учредителя | EV28: Глава по БК
A29: Наименование органа, осуществляющего | B29: Наименование органа, осуществляющего | AX29: Админитрация муниципального района "Вилюйский улус (район) РС (Я)
A30: ведение лицевого счета по иным субсидиям | B30: ведение лицевого счета по иным субсидиям
A31: Единица измерения: руб. (с точностью до второго десятичного знака) | B31: Единица измерения: руб. (с точностью до второго десятичного знака) | EV31: по ОКЕИ
EV32: по ОКВ
L33: (наименование иностранной валюты)
A35: Наименование субсидии | AX35: Код субсидии | BI35: Код КОСГУ | BT35: Разрешенный к использованию | DF35: Планируемые
BT36: остаток субсидии прошлых лет
CN37: на начало 20 | CO37: 13 | CR37: г.
BT39: код | CE39: сумма | DF39: поступления | EI39: выплаты
A40: 1 | AX40: 2 | BI40: 3 | BT40: 4 | CE40: 5 | DF40: 6 | EI40: 7
A41: Субсидия на оплату ЖКУ педработникам | AX41: 032 | BI41: 212 | CE41: 18107.7 | EI41: 18107.7
CC42: Всего | CE42: =CE41 -> 18107.7 | EI42: =EI41 -> 18107.7
EV44: Номер страницы
A45: Руководитель | B45: Руководитель | AS45: Дмитриева А.Н. | EV45: Всего страниц
T46: (подпись) | AS46: (расшифровка подписи)
A47: Руководитель | B47: Руководитель | CL47: ОТМЕТКА ОРГАНА, ОСУЩЕСТВЛЯЮЩЕГО ВЕДЕНИЕ ЛИЦЕВОГО СЧЕТА,
A48: финансово-экономи- | B48: финансово-экономи- | CL48: О ПРИНЯТИИ НАСТОЯЩИХ СВЕДЕНИЙ
A49: ческой службы | B49: ческой службы | AS49: Цыдендамбаева Б.Д. | CM49: Ответственный
...

Sheet Лист2
DR1: Приложение 1
DR2: к Порядку составления и утверждения плана
DR3: финансово-хозяйственной деятельности
DR4: муниципальных бюджетных
DR5: учреждений, подведомственных
DR6: Администрации МР "Вилюйский улус (район)"РС(Я)
CR9: УТВЕРЖДАЮ
CR10: Глава муниципального района
CR12: Админитрация муниципального района "Вилюйский улус (район) РС (Я)
EA14: С.Н. Винокуров
CR15: (подпись) | EA15: (расшифровка подписи)
CP16: " | CR16: 09 | CW16: " | CY16: января | DV16: 20 | DZ16: 13 | EC16: г.
B17: СВЕДЕНИЯ
B18: ОБ ОПЕРАЦИЯХ С ЦЕЛЕВЫМИ СУБСИДИЯМИ, ПРЕДОСТАВЛЕННЫМИ МУНИЦИПАЛЬНОМУ УЧРЕЖДЕНИЮ НА 20 | EI18: 13 | EM18: Г. | EX18: КОДЫ
EV19: Форма по ОКУД | EX19: 0501016
AW20: от " | BB20: 09 | BG20: " | BI20: января | CF20: 20 | CJ20: 13 | CN20: г. | EV20: Дата | EX20: 09.01.2013
A21: Муниципальное | AX21: Муниципальное бюджетное дошкольное образовательное учреждение «Детский сад «Кэнчээри» общеразвивающего вида с приоритетным осуществлением деятельности по социально-личностному развитию детей» с.Екюндю муниципального района "Вилюйский улус (район) РС (Я)
A22: учреждение (подразделение) | EV22: по ОКПО
AX24: ИНН/КПП | BG24: 1410004258/141001001 | EV24: Дата представления предыдущих Сведений
A26: Наименование бюджета | AX26: Бюджет МР "Вилюйский улус (район)" РС(Я) | EV26: по ОКАТО
A27: Наименование органа, осуществляющего | AX27: Админитрация муниципального района "Вилюйский улус (район) РС (Я)
A28: функции и полномочия учредителя | EV28: Глава по БК
A29: Наименование органа, осуществляющего | AX29: Админитрация муниципального района "Вилюйский улус (район) РС (Я)
A30: ведение лицевого счета по иным субсидиям
A31: Единица измерения: руб. (с точностью до второго десятичного знака) | EV31: по ОКЕИ
EV32: по ОКВ
L33: (наименование иностранной валюты)
A35: Наименование субсидии | AX35: Код субсидии | BI35: Код КОСГУ | BT35: Разрешенный к использованию | DF35: Планируемые
BT36: остаток субсидии прошлых лет
CN37: на начало 20 | CO37: 13 | CR37: г.
BT39: код | CE39: сумма | DF39: поступления | EI39: выплаты
A40: 1 | AX40: 2 | BI40: 3 | BT40: 4 | CE40: 5 | DF40: 6 | EI40: 7
AX41: 007 | BI41: 225 | CE41: 1 | EI41: 1
CC42: Всего | CE42: =CE41 -> 1 | EI42: =EI41 -> 1
EV44: Номер страницы
A45: Руководитель | AS45: Дмитриева А.Н. | EV45: Всего страниц
T46: (подпись) | AS46: (расшифровка подписи)
A47: Руководитель | CL47: ОТМЕТКА ОРГАНА, ОСУЩЕСТВЛЯЮЩЕГО ВЕДЕНИЕ ЛИЦЕВОГО СЧЕТА,
A48: финансово-экономи- | CL48: О ПРИНЯТИИ НАСТОЯЩИХ СВЕДЕНИЙ
A49: ческой службы | AS49: Цыдендамбаева Б.Д. | CM49: Ответственный
...
